{"text_format":"1","workbook":"xlsx","n_sheets":3,"sheets":["Eingabemaske","ÖSKB Spielbericht","Spielerkartei - Spielbericht"],"not_rendered":{"charts":0,"images":1,"macros":1,"external_links":0,"defined_names":4,"comments":0,"pivot_tables":0},"unopened":[],"bounds":{"document_bytes":16777216,"sheet_cells":100000,"rows_first":2000,"rows_last":500,"rows_between":2000,"halvings":0,"cell_chars":16384,"cell_head_chars":4096},"cells_cut":0,"cells_raw":0,"read":"whole","date_system":"1900"}

{"sheet":"Eingabemaske","index":0,"n_rows":24,"n_cols":20,"rows_kept":24,"cut":false,"hidden":false,"merged":[[4,18,4,19],[0,0,0,1],[0,4,0,5],[0,13,0,16],[1,0,1,1],[1,13,1,16],[2,0,2,1],[2,13,2,16],[4,3,4,4],[4,6,4,7],[4,8,4,9],[4,13,4,14],[4,16,4,17],[16,8,16,9],[16,18,16,19],[20,1,20,4],[22,0,22,19],[14,5,15,5],[14,6,14,7],[14,15,15,15],[14,16,14,17],[15,6,15,9],[15,16,15,19]]}
["Runde"]
["Datum"]
["Uhrzeit"]
[]
["Heimverein",null,null,"Vereinsnr.",null,null,"LV Nr.",null,null,null,"Gastverein",null,null,"Vereinsnr.",null,null,"LV Nr."]
["Passnr.","Rl.","Name","FW.","1.Satz","2.Satz","3.Satz","4.Satz","Ges.","M Lp.","Passnr.","Rl.","Name","FW.","1.Satz","2.Satz","3.Satz","4.Satz","Ges.","M Lp."]
[null,null,{"$f":"IF(A7=\"\",\"\",VLOOKUP(A7,'Spielerkartei - Spielbericht'!$A$452:$B$735,2))","v":""},null,null,null,null,null,{"$f":"IF(E7=\"\",\"\",SUM(E7:H7))","v":""},{"$f":"IF(E7=\"\",\"\",IF(I8>S8,1,IF(I8<S8,0,IF(I8=S8,IF(I7>S7,1,IF(I7=S7,0.5,))))))","v":""},null,null,{"$f":"IF(K7=\"\",\"\",VLOOKUP(K7,'Spielerkartei - Spielbericht'!$A$452:$B$735,2))","v":""},null,null,null,null,null,{"$f":"IF(O7=\"\",\"\",SUM(O7:R7))","v":""},{"$f":"IF(O7=\"\",\"\",IF(S8>I8,1,IF(S8<I8,0,IF(S8=I8,IF(S7>I7,1,IF(S7=I7,0.5,))))))","v":""}]
[null,null,null,null,{"$f":"IF(E7=\"\",\"\",IF(E7>O7,1,IF(E7=O7,0.5,0)))","v":""},{"$f":"IF(F7=\"\",\"\",IF(F7>P7,1,IF(F7=P7,0.5,0)))","v":""},"","",{"$f":"IF(E8=\"\",\"\",SUM(E8:H8))","v":""},null,null,null,null,null,{"$f":"IF(O7=\"\",\"\",IF(O7>E7,1,IF(O7=E7,0.5,0)))","v":""},{"$f":"IF(P7=\"\",\"\",IF(P7>F7,1,IF(P7=F7,0.5,0)))","v":""},{"$f":"IF(Q7=\"\",\"\",IF(Q7>G7,1,IF(Q7=G7,0.5,0)))","v":""},"",{"$f":"IF(O8=\"\",\"\",SUM(O8:R8))","v":""}]
[null,null,{"$f":"IF(A9=\"\",\"\",VLOOKUP(A9,'Spielerkartei - Spielbericht'!$A$452:$B$735,2))","v":""},null,null,null,null,null,"",{"$f":"IF(E9=\"\",\"\",IF(I10>S10,1,IF(I10<S10,0,IF(I10=S10,IF(I9>S9,1,IF(I9=S9,0.5,))))))","v":""},null,null,{"$f":"IF(K9=\"\",\"\",VLOOKUP(K9,'Spielerkartei - Spielbericht'!$A$452:$B$735,2))","v":""},null,null,null,null,null,"",{"$f":"IF(O9=\"\",\"\",IF(S10>I10,1,IF(S10<I10,0,IF(S10=I10,IF(S9>I9,1,IF(S9=I9,0.5,))))))","v":""}]
[null,null,null,null,"","","","","",null,null,null,null,null,{"$f":"IF(O9=\"\",\"\",IF(O9>E9,1,IF(O9=E9,0.5,0)))","v":""},{"$f":"IF(P9=\"\",\"\",IF(P9>F9,1,IF(P9=F9,0.5,0)))","v":""},"","",""]
[null,null,{"$f":"IF(A11=\"\",\"\",VLOOKUP(A11,'Spielerkartei - Spielbericht'!$A$452:$B$735,2))","v":""},null,null,null,null,null,"","",null,null,{"$f":"IF(K11=\"\",\"\",VLOOKUP(K11,'Spielerkartei - Spielbericht'!$A$452:$B$735,2))","v":""},null,null,null,null,null,"",""]
[null,null,null,null,"","","","","",null,null,null,null,null,{"$f":"IF(O11=\"\",\"\",IF(O11>E11,1,IF(O11=E11,0.5,0)))","v":""},{"$f":"IF(P11=\"\",\"\",IF(P11>F11,1,IF(P11=F11,0.5,0)))","v":""},"","",""]
[null,null,{"$f":"IF(A13=\"\",\"\",VLOOKUP(A13,'Spielerkartei - Spielbericht'!$A$452:$B$735,2))","v":""},null,null,null,null,null,"","",null,null,{"$f":"IF(K13=\"\",\"\",VLOOKUP(K13,'Spielerkartei - Spielbericht'!$A$452:$B$735,2))","v":""},null,null,null,null,null,"",""]
[null,null,null,null,"","","","","",null,null,null,null,null,{"$f":"IF(O13=\"\",\"\",IF(O13>E13,1,IF(O13=E13,0.5,0)))","v":""},{"$f":"IF(P13=\"\",\"\",IF(P13>F13,1,IF(P13=F13,0.5,0)))","v":""},"","",""]
[null,null,{"$f":"IF(A15=\"\",\"\",VLOOKUP(A15,'Spielerkartei - Spielbericht'!$A$452:$B$735,2))","v":""},null,null,"Wurf für","Kegel Ges.",null,{"$f":"IF(I7=\"\",\"\",SUM(I7,I9,I11,I13))","v":""},{"$f":"IF(I7=\"\",\"\",IF(I15>S15,2,IF(I15<S15,0,IF(I15=S15,1))))","v":""},null,null,{"$f":"IF(K15=\"\",\"\",VLOOKUP(K15,'Spielerkartei - Spielbericht'!$A$452:$B$735,2))","v":""},null,null,"Wurf für","Kegel Ges.",null,{"$f":"IF(S7=\"\",\"\",SUM(S7,S9,S11,S13))","v":""},{"$f":"IF(S15=\"\",\"\",IF(S15>I15,2,IF(S15<I15,0,IF(S15=I15,1))))","v":""}]
[null,null,"Ersatzspieler","ab",null,null,null,null,null,null,null,null,"Ersatzspieler","ab"]
[null,null,null,null,null,null,null,null,"Gesamt",null,null,null,null,null,null,null,null,null,"Gesamt"]
[null,null,"Fehlwurf Gesamt",{"$f":"IF(D7=\"\",\"\",SUM(D7,D9,D11,D13,D15))","v":""},null,null,null,"Kegel",{"$f":"IF(I7=\"\",\"\",SUM(I7,I9,I11,I13))","v":""},null,null,null,"Fehlwurf Gesamt",{"$f":"IF(N7=\"\",\"\",SUM(N7,N9,N11,N13,N15))","v":""},null,null,null,"Kegel",{"$f":"IF(S7=\"\",\"\",SUM(S7,S9,S11,S13))","v":""}]
[null,null,null,null,null,null,null,"Satzp.",{"$f":"IF(I8=\"\",\"\",SUM(I8,I10,I12,I14))","v":""},null,null,null,null,null,null,null,null,"Satzp.",{"$f":"IF(S8=\"\",\"\",SUM(S8,S10,S12,S14))","v":""}]
[null,null,null,null,null,null,null,"MP",{"$f":"IF(J7=\"\",\"\",SUM(J7,J9,J11,J13,J15))","v":""},null,null,null,null,null,null,null,null,"MP",{"$f":"IF(T7=\"\",\"\",SUM(T7,T9,T11,T13,T15))","v":""}]
[null,null,null,null,null,null,null,"TP",{"$f":"IF(I20=\"\",\"\",IF(I20>S20,2,IF(I20<S20,0,IF(I20=S20,1))))","v":""},null,null,null,null,null,null,null,null,"TP",{"$f":"IF(S20=\"\",\"\",IF(S20>I20,2,IF(S20<I20,0,IF(S20=I20,1))))","v":""}]
[null,"Diese Felder ausfüllen!!!!!!!!"]
["Beim ÖSKB Spielbericht müssen nur die dazu gehörenden Felder für den oder die Ersatzspieler/in, Heim und Gastverein, "]
["Sportkapitäne und Schiedsrichter eingetragen werden!!!!!!!!!"]

{"sheet":"ÖSKB Spielbericht","index":1,"n_rows":65,"n_cols":44,"rows_kept":65,"cut":false,"hidden":false,"merged":[[8,30,8,31],[9,22,9,23],[7,26,7,27],[9,15,10,15],[10,9,10,10],[9,19,9,20],[7,21,8,21],[2,17,2,19],[3,17,3,19],[2,5,2,10],[3,5,3,10],[5,11,5,13],[5,14,5,15],[6,22,6,23],[6,24,6,25],[5,17,5,21],[5,22,5,24],[10,19,10,20],[9,7,9,8],[9,13,9,14],[10,13,10,14],[9,9,9,10],[9,11,9,12],[9,30,9,31],[21,0,22,8],[18,0,19,2],[21,14,21,15],[19,6,19,7],[15,19,15,20],[8,13,8,14],[15,2,15,3],[18,4,18,5],[18,6,18,7],[15,4,16,4],[15,5,16,6],[15,10,16,15],[18,15,19,15],[13,9,13,10],[16,2,16,3],[11,19,11,20],[21,20,22,32],[15,27,16,32],[18,17,19,19],[16,19,16,20],[15,18,16,18],[21,17,21,18],[15,17,16,17],[18,23,18,24],[15,22,16,23],[14,22,14,23],[11,32,12,32],[18,32,19,32],[15,24,16,26],[15,21,16,21],[18,25,19,31],[19,21,19,22],[19,23,19,24],[12,26,12,27],[18,21,18,22],[13,21,14,21],[12,30,12,31],[14,26,14,27],[14,24,14,25],[13,32,14,32],[13,28,13,29],[14,30,14,31],[14,28,14,29],[13,30,13,31],[13,26,13,27],[13,22,13,23],[12,2,12,3],[13,2,13,3],[14,7,14,8],[13,7,13,8],[14,2,14,3],[10,30,10,31],[10,28,10,29],[11,26,11,27],[11,21,12,21],[10,24,10,25],[13,18,14,18],[13,15,14,15],[13,17,14,17],[10,2,10,3],[7,5,7,6],[8,5,8,6],[7,19,7,20],[8,19,8,20],[18,8,19,14],[13,13,13,14],[13,0,14,0],[11,1,12,1],[13,1,14,1],[13,11,13,12],[11,2,11,3],[15,0,16,0],[15,1,16,1],[19,4,19,5],[15,7,16,9],[14,9,14,10],[14,5,14,6],[11,5,11,6],[12,5,12,6],[14,11,14,12],[14,13,14,14],[14,19,14,20],[13,4,14,4],[13,5,13,6],[9,26,9,27],[7,22,7,23],[7,24,7,25],[9,21,10,21],[6,9,6,10],[8,7,8,8],[7,9,7,10],[7,11,7,12],[12,19,12,20],[10,22,10,23],[8,26,8,27],[8,24,8,25],[8,22,8,23],[11,18,12,18],[11,17,12,17],[12,11,12,12],[11,15,12,15],[11,13,11,14],[7,7,7,8],[6,7,6,8],[6,11,6,12],[7,13,7,14],[0,0,0,32],[12,7,12,8],[11,24,11,25],[9,5,9,6],[7,0,8,0],[9,0,10,0],[11,4,12,4],[11,0,12,0],[8,11,8,12],[7,30,7,31],[5,5,5,7],[5,31,5,32],[7,32,8,32],[7,15,8,15],[11,22,11,23],[7,18,8,18],[12,28,12,29],[11,28,11,29],[7,28,7,29],[9,24,9,25],[11,30,11,31],[8,28,8,29],[9,28,9,29],[10,26,10,27],[9,32,10,32],[8,9,8,10],[10,11,10,12],[6,28,6,29],[1,0,1,1],[2,0,2,1],[3,0,3,1],[1,2,1,3],[2,2,2,3],[3,2,3,3],[1,5,1,12],[2,11,2,12],[3,11,3,12],[5,8,5,10],[1,20,1,28],[2,20,2,28],[1,17,1,19],[3,20,3,28],[5,28,5,30],[5,25,5,27],[6,30,6,31],[6,19,6,20],[6,26,6,27],[6,13,6,14],[5,0,5,4],[6,2,6,3],[7,1,8,1],[9,1,10,1],[12,22,12,23],[12,24,12,25],[13,24,13,25],[13,19,13,20],[9,4,10,4],[7,2,7,3],[8,2,8,3],[9,2,9,3],[12,13,12,14],[11,7,11,8],[11,9,11,10],[11,11,11,12],[12,9,12,10],[9,18,10,18],[9,17,10,17],[10,5,10,6],[10,7,10,8],[7,4,8,4],[7,17,8,17],[6,5,6,6],[29,0,29,3],[24,20,25,32],[26,0,26,8],[27,17,28,18],[23,14,24,15],[23,0,23,8],[28,30,28,31],[23,17,24,18],[24,0,25,8],[23,20,23,32],[27,0,28,3],[27,30,27,31],[26,20,26,32],[29,6,29,8],[29,4,29,5],[29,19,29,23],[27,4,28,5],[27,6,28,8],[29,30,29,31],[28,25,28,29],[29,25,29,29],[27,14,28,15]]}
["S  P  I  E  L  B  E  R  I  C  H  T"]
["RUNDE",null,{"$f":"Eingabemaske!C1","v":0},null,null,"MEISTERSCHAFT",null,null,null,null,null,null,null,null,null,null,null,"   LIGA, KLASSE: ",null,null,{"$f":"IF($A$22=\"\",\"\",VLOOKUP($A$22,$AL$37:$AP$69,5))","v":""},null,null,null,null,null,null,null,null,null,null,null,1]
["DATUM",null,{"$f":"Eingabemaske!C2","v":"00:00:00"},null,null,"DAMEN",null,null,null,null,null,{"$f":"IF($A$22=\"\",\"\",VLOOKUP($A$22,$AL$37:$AR$69,6))","v":""},null,null,null,null,null,"   BAHN: ",null,null,{"$f":"IF($A$22=\"\",\"\",VLOOKUP($A$22,$AL$37:$AP$69,3))","v":""}]
["UHRZEIT",null,{"$f":"Eingabemaske!C3","v":"00:00:00"},null,null,"HERREN",null,null,null,null,null,{"$f":"IF($A$22=\"\",\"\",VLOOKUP($A$22,$AL$37:$AR$69,7))","v":""},null,null,null,null,null,"   ORT: ",null,null,{"$f":"IF($A$22=\"\",\"\",VLOOKUP($A$22,$AL$37:$AP$69,4))","v":""}]
[]
["HEIMVEREIN",null,null,null,null,"Vereins-Nr.",null,null,{"$f":"IF(A22=\"\",\"\",VLOOKUP(A22,AL37:AM69,2))","v":""},null,null,"LV-Nr.",null,null,{"$f":"IF(I6=\"\",\"\",18)","v":""},null,null,"GASTVEREIN",null,null,null,null,"Vereins-Nr.",null,null,{"$f":"IF(U22=\"\",\"\",VLOOKUP(U22,AL37:AM65,2))","v":""},null,null,"LV-Nr.",null,null,{"$f":"IF(U22=\"\",\"\",18)","v":""}]
["Pass-NR.","RL","NAME",null,"FW","1. Satz",null,"2. Satz",null,"3. Satz",null,"4. Satz",null,"GES",null,"M - LP",null,"Pass-NR.","RL","NAME",null,"FW","1. Satz",null,"2. Satz",null,"3. Satz",null,"4. Satz",null,"GES",null,"M - LP"]
[{"$f":"Eingabemaske!A7","v":0},null,{"$f":"IF(A8=\"\",\"\",VLOOKUP(A8,'Spielerkartei - Spielbericht'!$A$452:$B$735,2))","v":{"$error":"#N/A"}},null,{"$f":"Eingabemaske!D7","v":0},{"$f":"Eingabemaske!E7","v":0},null,{"$f":"Eingabemaske!F7","v":0},null,{"$f":"Eingabemaske!G7","v":0},null,{"$f":"Eingabemaske!H7","v":0},null,{"$f":"IF(F8=\"\",\"\",SUM(F8:M8))","v":0},null,{"$f":"IF(F8=\"\",\"\",IF(N9>AE9,1,IF(N9<AE9,0,IF(N9=AE9,IF(N8>AE8,1,IF(N8=AE8,0.5,))))))","v":0.5},null,{"$f":"Eingabemaske!K7","v":0},null,{"$f":"IF(R8=\"\",\"\",VLOOKUP(R8,'Spielerkartei - Spielbericht'!$A$452:$B$735,2))","v":{"$error":"#N/A"}},null,{"$f":"Eingabemaske!N7","v":0},{"$f":"Eingabemaske!O7","v":0},null,{"$f":"Eingabemaske!P7","v":0},null,{"$f":"Eingabemaske!Q7","v":0},null,{"$f":"Eingabemaske!R7","v":0},null,{"$f":"IF(W8=\"\",\"\",SUM(W8:AD8))","v":0},null,{"$f":"IF(W8=\"\",\"\",IF(AE9>N9,1,IF(AE9<N9,0,IF(AE9=N9,IF(AE8>N8,1,IF(AE8=N8,0.5,))))))","v":0.5}]
[null,null,null,null,null,{"$f":"IF(F8=\"\",\"\",IF(F8>W8,1,IF(F8=W8,0.5,0)))","v":0.5},null,{"$f":"IF(H8=\"\",\"\",IF(H8>Y8,1,IF(H8=Y8,0.5,0)))","v":0.5},null,{"$f":"IF(J8=\"\",\"\",IF(J8>AA8,1,IF(J8=AA8,0.5,0)))","v":0.5},null,{"$f":"IF(L8=\"\",\"\",IF(L8>AC8,1,IF(L8=AC8,0.5,0)))","v":0.5},null,{"$f":"IF(F9=\"\",\"\",SUM(F9:M9))","v":2},null,null,null,null,null,null,null,null,{"$f":"IF(W8=\"\",\"\",IF(W8>F8,1,IF(W8=F8,0.5,0)))","v":0.5},null,{"$f":"IF(Y8=\"\",\"\",IF(Y8>H8,1,IF(Y8=H8,0.5,0)))","v":0.5},null,{"$f":"IF(AA8=\"\",\"\",IF(AA8>J8,1,IF(AA8=J8,0.5,0)))","v":0.5},null,{"$f":"IF(AC8=\"\",\"\",IF(AC8>L8,1,IF(AC8=L8,0.5,0)))","v":0.5},null,{"$f":"IF(W9=\"\",\"\",SUM(W9:AD9))","v":2}]
[{"$f":"Eingabemaske!A9","v":0},null,{"$f":"IF(A10=\"\",\"\",VLOOKUP(A10,'Spielerkartei - Spielbericht'!$A$452:$B$735,2))","v":{"$error":"#N/A"}},null,{"$f":"Eingabemaske!D9","v":0},{"$f":"Eingabemaske!E9","v":0},null,{"$f":"Eingabemaske!F9","v":0},null,{"$f":"Eingabemaske!G9","v":0},null,{"$f":"Eingabemaske!H9","v":0},null,{"$f":"IF(F10=\"\",\"\",SUM(F10:M10))","v":0},null,{"$f":"IF(F10=\"\",\"\",IF(N11>AE11,1,IF(N11<AE11,0,IF(N11=AE11,IF(N10>AE10,1,IF(N10=AE10,0.5,))))))","v":0.5},null,{"$f":"Eingabemaske!K9","v":0},null,{"$f":"IF(R10=\"\",\"\",VLOOKUP(R10,'Spielerkartei - Spielbericht'!$A$452:$B$735,2))","v":{"$error":"#N/A"}},null,{"$f":"Eingabemaske!N9","v":0},{"$f":"Eingabemaske!O9","v":0},null,{"$f":"Eingabemaske!P9","v":0},null,{"$f":"Eingabemaske!Q9","v":0},null,{"$f":"Eingabemaske!R9","v":0},null,{"$f":"IF(W10=\"\",\"\",SUM(W10:AD10))","v":0},null,{"$f":"IF(W10=\"\",\"\",IF(AE11>N11,1,IF(AE11<N11,0,IF(AE11=N11,IF(AE10>N10,1,IF(AE10=N10,0.5,))))))","v":0.5}]
[null,null,null,null,null,{"$f":"IF(F10=\"\",\"\",IF(F10>W10,1,IF(F10=W10,0.5,0)))","v":0.5},null,{"$f":"IF(H10=\"\",\"\",IF(H10>Y10,1,IF(H10=Y10,0.5,0)))","v":0.5},null,{"$f":"IF(J10=\"\",\"\",IF(J10>AA10,1,IF(J10=AA10,0.5,0)))","v":0.5},null,{"$f":"IF(L10=\"\",\"\",IF(L10>AC10,1,IF(L10=AC10,0.5,0)))","v":0.5},null,2,null,null,null,null,null,null,null,null,{"$f":"IF(W10=\"\",\"\",IF(W10>F10,1,IF(W10=F10,0.5,0)))","v":0.5},null,{"$f":"IF(Y10=\"\",\"\",IF(Y10>H10,1,IF(Y10=H10,0.5,0)))","v":0.5},null,{"$f":"IF(AA10=\"\",\"\",IF(AA10>J10,1,IF(AA10=J10,0.5,0)))","v":0.5},null,{"$f":"IF(AC10=\"\",\"\",IF(AC10>L10,1,IF(AC10=L10,0.5,0)))","v":0.5},null,2]
[{"$f":"Eingabemaske!A11","v":0},null,{"$f":"IF(A12=\"\",\"\",VLOOKUP(A12,'Spielerkartei - Spielbericht'!$A$452:$B$735,2))","v":{"$error":"#N/A"}},null,{"$f":"Eingabemaske!D11","v":0},{"$f":"Eingabemaske!E11","v":0},null,{"$f":"Eingabemaske!F11","v":0},null,{"$f":"Eingabemaske!G11","v":0},null,{"$f":"Eingabemaske!H11","v":0},null,0,null,{"$f":"IF(F12=\"\",\"\",IF(N13>AE13,1,IF(N13<AE13,0,IF(N13=AE13,IF(N12>AE12,1,IF(N12=AE12,0.5,))))))","v":0.5},null,{"$f":"Eingabemaske!K11","v":0},null,{"$f":"IF(R12=\"\",\"\",VLOOKUP(R12,'Spielerkartei - Spielbericht'!$A$452:$B$735,2))","v":{"$error":"#N/A"}},null,{"$f":"Eingabemaske!N11","v":0},{"$f":"Eingabemaske!O11","v":0},null,{"$f":"Eingabemaske!P11","v":0},null,{"$f":"Eingabemaske!Q11","v":0},null,{"$f":"Eingabemaske!R11","v":0},null,{"$f":"IF(W12=\"\",\"\",SUM(W12:AD12))","v":0},null,{"$f":"IF(W12=\"\",\"\",IF(AE13>N13,1,IF(AE13<N13,0,IF(AE13=N13,IF(AE12>N12,1,IF(AE12=N12,0.5,))))))","v":0.5}]
[null,null,null,null,null,{"$f":"IF(F12=\"\",\"\",IF(F12>W12,1,IF(F12=W12,0.5,0)))","v":0.5},null,{"$f":"IF(H12=\"\",\"\",IF(H12>Y12,1,IF(H12=Y12,0.5,0)))","v":0.5},null,{"$f":"IF(J12=\"\",\"\",IF(J12>AA12,1,IF(J12=AA12,0.5,0)))","v":0.5},null,{"$f":"IF(L12=\"\",\"\",IF(L12>AC12,1,IF(L12=AC12,0.5,0)))","v":0.5},null,2,null,null,null,null,null,null,null,null,{"$f":"IF(W12=\"\",\"\",IF(W12>F12,1,IF(W12=F12,0.5,0)))","v":0.5},null,{"$f":"IF(Y12=\"\",\"\",IF(Y12>H12,1,IF(Y12=H12,0.5,0)))","v":0.5},null,{"$f":"IF(AA12=\"\",\"\",IF(AA12>J12,1,IF(AA12=J12,0.5,0)))","v":0.5},null,{"$f":"IF(AC12=\"\",\"\",IF(AC12>L12,1,IF(AC12=L12,0.5,0)))","v":0.5},null,2]
[{"$f":"Eingabemaske!A13","v":0},null,{"$f":"IF(A14=\"\",\"\",VLOOKUP(A14,'Spielerkartei - Spielbericht'!$A$452:$B$735,2))","v":{"$error":"#N/A"}},null,{"$f":"Eingabemaske!D13","v":0},{"$f":"Eingabemaske!E13","v":0},null,{"$f":"Eingabemaske!F13","v":0},null,{"$f":"Eingabemaske!G13","v":0},null,{"$f":"Eingabemaske!H13","v":0},null,0,null,{"$f":"IF(F14=\"\",\"\",IF(N15>AE15,1,IF(N15<AE15,0,IF(N15=AE15,IF(N14>AE14,1,IF(N14=AE14,0.5,))))))","v":0.5},null,{"$f":"Eingabemaske!K13","v":0},null,{"$f":"IF(R14=\"\",\"\",VLOOKUP(R14,'Spielerkartei - Spielbericht'!$A$452:$B$735,2))","v":{"$error":"#N/A"}},null,{"$f":"Eingabemaske!N13","v":0},{"$f":"Eingabemaske!O13","v":0},null,{"$f":"Eingabemaske!P13","v":0},null,{"$f":"Eingabemaske!Q13","v":0},null,{"$f":"Eingabemaske!R13","v":0},null,{"$f":"IF(W14=\"\",\"\",SUM(W14:AD14))","v":0},null,{"$f":"IF(W14=\"\",\"\",IF(AE15>N15,1,IF(AE15<N15,0,IF(AE15=N15,IF(AE14>N14,1,IF(AE14=N14,0.5,))))))","v":0.5}]
[null,null,null,null,null,{"$f":"IF(F14=\"\",\"\",IF(F14>W14,1,IF(F14=W14,0.5,0)))","v":0.5},null,{"$f":"IF(H14=\"\",\"\",IF(H14>Y14,1,IF(H14=Y14,0.5,0)))","v":0.5},null,{"$f":"IF(J14=\"\",\"\",IF(J14>AA14,1,IF(J14=AA14,0.5,0)))","v":0.5},null,{"$f":"IF(L14=\"\",\"\",IF(L14>AC14,1,IF(L14=AC14,0.5,0)))","v":0.5},null,2,null,null,null,null,null,null,null,null,{"$f":"IF(W14=\"\",\"\",IF(W14>F14,1,IF(W14=F14,0.5,0)))","v":0.5},null,{"$f":"IF(Y14=\"\",\"\",IF(Y14>H14,1,IF(Y14=H14,0.5,0)))","v":0.5},null,{"$f":"IF(AA14=\"\",\"\",IF(AA14>J14,1,IF(AA14=J14,0.5,0)))","v":0.5},null,{"$f":"IF(AC14=\"\",\"\",IF(AC14>L14,1,IF(AC14=L14,0.5,0)))","v":0.5},null,2]
[{"$f":"Eingabemaske!A15","v":0},null,"Ersatzspieler/in",null,"ab",{"$f":"Eingabemaske!E16","v":0},null,"Wurf für",null,null,{"$f":"Eingabemaske!G16","v":0},null,null,null,null,null,null,{"$f":"Eingabemaske!K15","v":0},null,"Ersatzspieler/in",null,"ab",{"$f":"Eingabemaske!O16","v":0},null,"Wurf für",null,null,{"$f":"Eingabemaske!Q16","v":0}]
[null,null,{"$f":"IF(A16=\"\",\"\",VLOOKUP(A16,'Spielerkartei - Spielbericht'!$A$452:$B$735,2))","v":{"$error":"#N/A"}},null,null,null,null,null,null,null,null,null,null,null,null,null,null,null,null,{"$f":"IF(R16=\"\",\"\",VLOOKUP(R16,'Spielerkartei - Spielbericht'!$A$452:$B$735,2))","v":{"$error":"#N/A"}}]
[]
["GESAMTLEISTUNG",null,null,{"$f":"SUM(N8,N10,N12,N14)","v":0},{"$f":"IF(L8=\"\",\"\",AVERAGE(N8,N10,N12,N14))","v":0},null,{"$f":"SUM(E8,E10,E12,E14)","v":0},null,"M - LP",null,null,null,null,null,null,{"$f":"IF(D19=0,\"\",IF(D19>U19,2,IF(D19<U19,0,IF(D19=U19,1,))))","v":""},null,"GESAMTLEISTUNG",null,null,{"$f":"SUM(AE8,AE10,AE12,AE14)","v":0},{"$f":"IF(AC8=\"\",\"\",AVERAGE(AE8,AE10,AE12,AE14))","v":0},null,{"$f":"SUM(V8,V10,V12,V14)","v":0},null,"M - LP",null,null,null,null,null,null,{"$f":"IF(U19=0,\"\",IF(U19>D19,2,IF(U19<D19,0,IF(U19=D19,1,))))","v":""}]
[null,null,null,"Kegel","Schnitt",null,"FW",null,null,null,null,null,null,null,null,null,null,null,null,null,"Kegel","Schnitt",null,"FW"]
[]
[null,null,null,null,null,null,null,null,null,{"$f":"IF(D19=U19,AH22&\" \"&0&\" Holz\",IF(D19<U19,\"\",IF(D19>U19,\"+ \"&D19-U19&\" Holz\")))","v":"± 0 Holz"},null,null,null,null,{"$f":"SUM(N9,N11,N13,N15)","v":8},null,null,{"$f":"SUM(AE9,AE11,AE13,AE15)","v":8},null,{"$f":"IF(U19=D19,AH22&\" \"&0&\" Holz\",IF(U19<D19,\"\",IF(U19>D19,\"+ \"&U19-D19&\" Holz\")))","v":"± 0 Holz"},null,null,null,null,null,null,null,null,null,null,null,null,null,"±"]
[null,null,null,null,null,null,null,null,null,null,null,null,null,null,null,null,"SATZPUNKTE"]
["HEIMVEREIN",null,null,null,null,null,null,null,null,null,null,null,null,null,{"$f":"SUM(P8,P10,P12,P14,P19)","v":2},null,null,{"$f":"SUM(AG8,AG10,AG12,AG14,AG19)","v":2},null,null,"GASTVEREIN"]
[]
[null,null,null,null,null,null,null,null,null,null,null,null,null,null,null,null,"MANNSCHAFTSPUNKTE"]
["SPORTKAPITÄN",null,null,null,null,null,null,null,null,null,null,null,null,null,null,null,null,null,null,null,"SPORTKAPITÄN"]
[null,null,null,null,18,null,null,null,null,null,null,null,null,null,{"$f":"IF(O24>R24,2,IF(R24>O24,0,IF(O24=R24,1)))","v":1},null,null,{"$f":"IF(O24<R24,2,IF(R24<O24,0,IF(O24=R24,1)))","v":1},null,null,null,null,null,null,null,null,null,null,null,null,"HV",null,"GV"]
[null,null,null,null,null,null,null,null,null,null,null,null,null,null,null,null,null,null,null,null,null,null,null,null,null,"VERWARNUNG"]
["SCHIEDSRICHTER - N A M E",null,null,null,"LV",null,"NR",null,null,null,null,null,null,null,null,null,"TABELLENPUNKTE",null,null,"SCHIEDSRICHTER",null,null,null,null,null,"PROTEST"]
["Begründung Verwarnung:"]
[]
[]
[]
[null,null,null,null,null,null,null,null,null,null,null,null,null,null,null,null,null,null,null,null,null,null,null,null,null,null,null,null,null,null,null,null,null,null,"Vereine",null,"Liga","Vereine","VereinsNr.","Bahn","Ort","Liga","Damen","Herren"]
[null,null,null,null,null,null,null,null,null,null,null,null,null,null,null,null,null,null,null,null,null,null,null,null,null,null,null,null,null,null,null,null,null,null,"D A M E N"]
[null,null,null,null,null,null,null,null,null,null,null,null,null,null,null,null,null,null,null,null,null,null,null,null,null,null,null,null,null,null,null,null,null,null,"ESV Bregenz/Wolfurt",null,null,"ATSV Hard ",106,"Freizeitzentrum Hard Bahn 5-8","Hard","Vorarlbergliga"," ","X"]
[null,null,null,null,null,null,null,null,null,null,null,null,null,null,null,null,null,null,null,null,null,null,null,null,null,null,null,null,null,null,null,null,null,null,"SKC EHG Dornbirn D 2",null,"Damenliga","ESV Bludenz 2",101,"Mokry-Bludenz Bahn 1-4","Bludenz","A - Liga"," ","X"]
[null,null,null,null,null,null,null,null,null,null,null,null,null,null,null,null,null,null,null,null,null,null,null,null,null,null,null,null,null,null,null,null,null,null,"SKC EHG Dornbirn D 3",null,"Vorarlbergliga","ESV Bregenz/Wolfurt",102,"Güterbahnhof Wolfurt Bahn 1-4","Wolfurt","Damenliga","X"," "]
[null,null,null,null,null,null,null,null,null,null,null,null,null,null,null,null,null,null,null,null,null,null,null,null,null,null,null,null,null,null,null,null,null,null,"SKC Koblach 1",null,"A - Liga","ESV Bregenz/Wolfurt 1",102,"Güterbahnhof Wolfurt Bahn 1-4","Wolfurt","Vorarlbergliga"," ","X"]
[null,null,null,null,null,null,null,null,null,null,null,null,null,null,null,null,null,null,null,null,null,null,null,null,null,null,null,null,null,null,null,null,null,null,null,null,null,"ESV Bregenz/Wolfurt 2",102,"Güterbahnhof Wolfurt Bahn 1-4","Wolfurt","Vorarlbergliga"," ","X"]
[null,null,null,null,null,null,null,null,null,null,null,null,null,null,null,null,null,null,null,null,null,null,null,null,null,null,null,null,null,null,null,null,null,null,null,null,null,"SKC Dornbirn ",104,"Olympia Zentrum Bahn 1-4","Dornbirn","A-Liga"," ","X"]
[null,null,null,null,null,null,null,null,null,null,null,null,null,null,null,null,null,null,null,null,null,null,null,null,null,null,null,null,null,null,null,null,null,null,"H E R R E N",null,null,"SKC Dornbirn 2",104,"Olympiazentrum Bahn 1-4","Dornbirn","A - Liga"," ","X"]
[null,null,null,null,null,null,null,null,null,null,null,null,null,null,null,null,null,null,null,null,null,null,null,null,null,null,null,null,null,null,null,null,null,null,null,null,null,"SKC EHG Dornbirn 2",114,"Güterbahnhof Wolfurt Bahn 1-4","Wolfurt","Vorarlbergliga"," ","X"]
[null,null,null,null,null,null,null,null,null,null,null,null,null,null,null,null,null,null,null,null,null,null,null,null,null,null,null,null,null,null,null,null,null,null,"ESV Bregenz/Wolfurt 1",null,null,"SKC EHG Dornbirn 3",114,"Güterbahnhof Wolfurt Bahn 1-4","Wolfurt","A - Liga"," ","X"]
[null,null,null,null,null,null,null,null,null,null,null,null,null,null,null,null,null,null,null,null,null,null,null,null,null,null,null,null,null,null,null,null,null,null,"ESV Bregenz/Wolfurt 2","Ort","Ort","SKC EHG Dornbirn 4",114,"Güterbahnhof Wolfurt Bahn 1-4","Wolfurt","A - Liga"," ","X"]
[null,null,null,null,null,null,null,null,null,null,null,null,null,null,null,null,null,null,null,null,null,null,null,null,null,null,null,null,null,null,null,null,null,null,"SKC Dornbirn ","Freizeitzentrum Hard","Hard","SKC EHG Dornbirn D 2",114,"Güterbahnhof Wolfurt Bahn 1-4","Wolfurt","Damenliga","X"," "]
[null,null,null,null,null,null,null,null,null,null,null,null,null,null,null,null,null,null,null,null,null,null,null,null,null,null,null,null,null,null,null,null,null,null,"ATSV Hard ","Güterbahnhof Wolfurt","Wolfurt","SKC EHG Dornbirn D 3",114,"Güterbahnhof Wolfurt Bahn 1-4","Wolfurt","Damenliga","X"," "]
[null,null,null,null,null,null,null,null,null,null,null,null,null,null,null,null,null,null,null,null,null,null,null,null,null,null,null,null,null,null,null,null,null,null,"SKC EHG Dornbirn 2","Kegelcenter Koblach","Koblach","SKC Hilti",107,"Mokry-Bludenz Bahn 1-4","Bludenz","A - Liga"," ","X"]
[null,null,null,null,null,null,null,null,null,null,null,null,null,null,null,null,null,null,null,null,null,null,null,null,null,null,null,null,null,null,null,null,null,null,"SKC EHG Dornbirn 3","Landessportschule","Dornbirn","SKC Illwerke",109,"Rodund Vandans","Vandans","Damenliga","X"," "]
[null,null,null,null,null,null,null,null,null,null,null,null,null,null,null,null,null,null,null,null,null,null,null,null,null,null,null,null,null,null,null,null,null,null,"SKC Hilti","Mokry Bludenz","Bludenz","SKC Illwerke 1",109,"Rodund Vandans","Vandans","A-Liga"," ","X"]
[null,null,null,null,null,null,null,null,null,null,null,null,null,null,null,null,null,null,null,null,null,null,null,null,null,null,null,null,null,null,null,null,null,null,"SKC Illwerke 1","Rodund Vandans","Vandans","SKC Illwerke 2",109,"Rodund Vandans","Vandans","A - Liga"," ","X"]
[null,null,null,null,null,null,null,null,null,null,null,null,null,null,null,null,null,null,null,null,null,null,null,null,null,null,null,null,null,null,null,null,null,null,"SKC Illwerke 2",null,null,"SKC Illwerke 3",109,"Rodund Vandans","Vandans","A - Liga"," ","X"]
[null,null,null,null,null,null,null,null,null,null,null,null,null,null,null,null,null,null,null,null,null,null,null,null,null,null,null,null,null,null,null,null,null,null,"SKC Koblach 2",null,null,"SKC Koblach 1",112,"Kegelsportcenter Koblach 1-4","Koblach","Damenliga","X"," "]
[null,null,null,null,null,null,null,null,null,null,null,null,null,null,null,null,null,null,null,null,null,null,null,null,null,null,null,null,null,null,null,null,null,null,"SKC Koblach 3",null,null,"SKC Koblach 2",112,"Kegelsportcenter Koblach 1-4","Koblach","Vorarlbergliga"," ","X"]
[null,null,null,null,null,null,null,null,null,null,null,null,null,null,null,null,null,null,null,null,null,null,null,null,null,null,null,null,null,null,null,null,null,null,null,null,null,"SKC Koblach 3",112,"Kegelsportcenter Koblach 1-4","Koblach","A - Liga"," ","X"]
[null,null,null,null,null,null,null,null,null,null,null,null,null,null,null,null,null,null,null,null,null,null,null,null,null,null,null,null,null,null,null,null,null,null,null,null,null,"SKC Koblach 4",112,"Kegelsportcenter Koblach 1-4","Koblach","A - Liga"," ","X"]
[null,null,null,null,null,null,null,null,null,null,null,null,null,null,null,null,null,null,null,null,null,null,null,null,null,null,null,null,null,null,null,null,null,null,null,null,"Bahnanlage","SKC Koblach D 2",113,"Kegelsportcenter Koblach 1-4","Koblach","Damenliga","X"]
[]
[null,null,null,null,null,null,null,null,null,null,null,null,null,null,null,null,null,null,null,null,null,null,null,null,null,null,null,null,null,null,null,null,null,null,null,1,"Freizeitzentrum Hard"]
[null,null,null,null,null,null,null,null,null,null,null,null,null,null,null,null,null,null,null,null,null,null,null,null,null,null,null,null,null,null,null,null,null,null,null,2,"Güterbahnhof Wolfurt"]
[null,null,null,null,null,null,null,null,null,null,null,null,null,null,null,null,null,null,null,null,null,null,null,null,null,null,null,null,null,null,null,null,null,null,null,3,"Kegelsportcenter Koblach"]
[null,null,null,null,null,null,null,null,null,null,null,null,null,null,null,null,null,null,null,null,null,null,null,null,null,null,null,null,null,null,null,null,null,null,null,4,"Landessportschule"]
[null,null,null,null,null,null,null,null,null,null,null,null,null,null,null,null,null,null,null,null,null,null,null,null,null,null,null,null,null,null,null,null,null,null,null,5,"Mokry Bludenz"]
[null,null,null,null,null,null,null,null,null,null,null,null,null,null,null,null,null,null,null,null,null,null,null,null,null,null,null,null,null,null,null,null,null,null,null,6,"Rodund Vandans"]

{"sheet":"Spielerkartei - Spielbericht","index":2,"n_rows":451,"n_cols":8,"rows_kept":451,"cut":false,"hidden":false,"merged":[]}
["Pass-Nr.",null,"Ver Nr.","Verein\nName",null,"Jg","Nation"]
[1000,"KRAMMER Dominic",112,"SKC Koblach",null,"1986-05-30","AUT","M"]
[1001]
[1002,"KLINGLER Wolfgang",101,"ESV Bludenz",null,"1964-03-19","AUT","M"]
[1003,"METZLER Johann",112,"SKC Koblach",null,"1955-07-08","AUT","M"]
[1004,"SINKO Gerd",109,"SKC Illwerke",null,"1985-10-03","AUT","M"]
[1005,"WACHTER Robert",109,"SKC Illwerke",null,"1959-02-22","AUT","M"]
[1006,"NAGY Laszlo",112,"SKC Koblach",null,"1984-01-11","HUN","M"]
[1007,"FRITZ Peter",102,"ESV Bregenz Wolfurt",null,"1976-07-16","AUT","M"]
[1008]
[1009,"PESCHL Samuel",112,"SKC Koblach",null,"2005-05-10","AUT","M"]
[1010]
[1011]
[1012,"WÜSCHNER MARCEL",114,"SKC EHG Dornbirn",null,"1997-10-20","AUT","M"]
[1013,"WALTER Gottlieb",109,"SKC Illwerke",null,"1971-11-18","AUT","M"]
[1014,"EGGER Patrick",107,"SKC Hilti",null,"1992-09-19","AUT","M"]
[1015,"NIKOLIC Jan Marco",114,"SKC EHG Dornbirn",null,"2004-01-19","AUT","M"]
[1016,"FEHER Kristian",114,"SKC EHG Dornbirn",null,"1978-10-23","AUT","M"]
[1017]
[1018,"BITSCHNAU Emil",109,"SKC Illwerke",null,"1950-07-11","AUT","M"]
[1019,"KLICKOVIC Zeljko",104,"SKC Dornbirn",null,"1972-12-17","AUT","M"]
[1020,"FRITZ Erich",109,"SKC Illwerke",null,"1957-06-09","AUT","M"]
[1021,"ILES Stevan",112,"SKC Koblach",null,"1967-01-24","AUT","M"]
[1022,"Bertsch Angelo",107,"SKC Hilti",null,"2000-11-14","AUT","M"]
[1023]
[1024,"LEISSNER Günter",109,"SKC Illwerke",null,"1959-07-01","AUT","M"]
[1025,"TRATINEK Siegfried",101,"ESV Bludenz",null,"1966-08-21","AUT","M"]
[1026]
[1027,"KUSCHNY Jürgen",106,"ATSV Hard",null,"1964-07-18","AUT","M"]
[1028,"EGGER Stefan",107,"SKC Hilti",null,"1994-07-07","AUT","M"]
[1029,"VAUCE Gottfried",114,"SKC EHG Dornbirn",null,"1959-10-31","AUT","M"]
[1030,"VALENTIN Gerhard",109,"SKC Illwerke",null,"1959-06-28","AUT","M"]
[1031,"HOTTENROTT Steffen",114,"SKC EHG Dornbirn",null,"1961-07-10","GER","M"]
[1032,"SONDEREGGER Gerhard",112,"SKC Koblach",null,"1965-02-22","AUT","M"]
[1033,"SPALT Julian",112,"SKC Koblach",null,"2006-04-04","AUT","M"]
[1034,"PESCHL Stefan",113,"SKC Koblach",null,"1972-12-15","AUT","M"]
[1035,"BOLTER Ferdinand",112,"SKC Koblach",null,"1948-05-23","AUT","M"]
[1036,"KESSLER Günter",114,"SKC EHG Dornbirn",null,"1964-08-29","AUT","M"]
[1037,"BOTTESI Siegfried",112,"SKC Koblach",null,"1940-08-12","AUT","M"]
[1038,"TUSCH Norbert",112,"SKC Koblach",null,"1959-09-23","AUT","M"]
[1039,"FESSLER Gerd",112,"SKC Koblach",null,"1956-10-30","AUT","M"]
[1040,"GRASSMUGG Josef",112,"SKC Koblach",null,"1961-12-11","AUT","M"]
[1041," "]
[1042]
[1043,"HEFEL Herbert",112,"SKC Koblach",null,"1956-07-20","AUT","M"]
[1044,"HAASER Andreas",112,"SKC Koblach",null,"1962-02-17","AUT","M"]
[1045,"ADAM Franz",112,"SKC Koblach",null,"1962-04-20","AUT","M"]
[1046,"JÄGER Werner",112,"SKC Koblach",null,"1964-02-18","AUT","M"]
[1047]
[1048,"PILECKY Lukas",112,"SKC Koblach",null,"2000-05-08","AUT","M"]
[1049,"IROVEC Viktor",112,"SKC Koblach",null,"1966-12-17","AUT","M"]
[1050,"MARTE Bruno",112,"SKC Koblach",null,"1944-12-03","AUT","M"]
[1051,"HAMMERL Stefan",101,"ESV Bludenz",null,"1986-04-01","AUT","M"]
[1052,"PIEBER Anton",112,"SKC Koblach",null,"1937-07-22","AUT","M"]
[1053,"NATTER Josef",104,"SKC Dornbirn",null,"1940-05-01","AUT","M"]
[1054,"SIMENOWSKYJ Stefan",109,"SKC Illwerke",null,"1956-03-29","AUT","M"]
[1055,"LEINGARTNER Matthias",104,"SKC Dornbirn",null,"1962-06-26","AUT","M"]
[1056,"PILECKY Simon",112,"SKC Koblach",null,"2002-01-25","AUT","M"]
[1057]
[1058,"BENZER Mike",112,"SKC Koblach",null,"1992-02-24","AUT","M"]
[1059,"AJKOVIC Predrak",106,"ATSV Hard",null,"1965-08-29","AUT","M"]
[1060,"BENZER Nico",112,"SKC Koblach",null,"2001-09-25","AUT","M"]
[1061,"KAHR Josef",102,"ESV Bregenz Wolfurt",null,"1971-02-26","AUT","M"]
[1062,"BERTSCH Gerhard",107,"SKC Hilti",null,"1957-03-01","AUT","M"]
[1063,"HAMMERL Herbert",101,"ESV Bludenz",null,"1962-12-12","AUT","M"]
[1064,"GRUBER Franz",101,"ESV Bludenz",null,"1959-12-03","AUT","M"]
[1065," "]
[1066,"HOHENSINGER Franz",112,"SKC Koblach",null,"1946-01-21","AUT","M"]
[1067,"FRITSCH Chris",109,"SKC Illwerke",null,"1996-01-05","AUT","M"]
[1068,"SCHROTTNER Heinz",101,"ESV Bludenz",null,"1971-06-02","AUT","M"]
[1069,"WIEGELE Helmut",114,"SKC EHG Dornbirn",null,"1968-06-08","AUT","M"]
[1070,"MÜLLER Tobias",114,"SKC EHG Dornbirn",null,"1988-05-10","GER","M"]
[1071,"MAIER Wilfried",109,"SKC Illwerke",null,"1953-03-12","AUT","M"]
[1072,"BUKVAREVIC Adem",114,"SKC EHG Dornbirn",null,"1985-02-15","BIH","M"]
[1073]
[1074]
[1075,"SEIFERT Kurt",102,"ESV Bregenz Wolfurt",null,"1962-08-08","AUT","M"]
[1076," "]
[1077,"STRASSER Thomas",112,"SKC Koblach",null,"1984-02-12","AUT","M"]
[1078]
[1079]
[1080]
[1081,"BERKMANN Jürgen",101,"ESV Bludenz",null,"1975-07-14","AUT","M"]
[1082,"FERNER Georg",104,"SKC Dornbirn",null,"1960-07-29","AUT","M"]
[1083,"FRICK Christian",107,"SKC Hilti",null,"1966-08-04","AUT","M"]
[1084]
[1085]
[1086,"DAROSS Walter",106,"ATSV Hard",null,"1958-12-07","AUT","M"]
[1087]
[1088]
[1089,"BAUMGARTNER Herbert",106,"ATSV Hard",null,"1952-04-03","AUT","M"]
[1090," "]
[1091]
[1092]
[1093,"PILECKY Günter",112,"SKC Koblach ",null,"1964-09-27","AUT","M"]
[1094]
[1095,"WÜSCHNER Karl-Heinz",114,"SKC EHG Dornbirn",null,"1970-02-26","AUT","M"]
[1096,"BAUMGARTNER Herb. Jun.",106,"ATSV Hard",null,"1978-08-08","AUT","M"]
[1097]
[1098,"RÜF Manuel",102,"ESV Bregenz Wolfurt",null,"1977-12-24","AUT","M"]
[1099,"WAGNER Markus",112,"SKC Koblach",null,"1981-11-17","GER","M"]
[1100,"PECOVNIK Helmut",112,"SKC Koblach",null,"1965-01-13","AUT","M"]
[1101,"BAJRIC Selvedin",114,"SKC EHG Dornbirn",null,"1987-05-01","BIH","M"]
[1102]
[1103,"GRBHERR Justin",114,"SKC EHG Dornbirn",null,"2007-07-12","AUT","M"]
[1104]
[1105," "]
[1106," "]
[1107]
[1108," "]
[1109," "]
[1110," "]
[1111," "]
[1112]
[1113]
[1114]
[1115]
[1116," "]
[1117," "]
[1118," "]
[1119," "]
[1120," "]
[1121,"MÄRKER Andreas",112,"SKC Koblach",null,"1964-03-18","AUT","M"]
[1122,"PEGGER Werner",106,"ATSV Hard",null,"1952-01-01","ITA","M"]
[1123]
[1124]
[1125,"SCHWENDINGER Bernd",114,"SKC EHG Dornbirn",null,"1961-03-24","AUT","M"]
[1126]
[1127," "]
[1128," "]
[1129]
[1130," "]
[1131," "]
[1132," "]
[1133," "]
[1134," "]
[1135]
[1136]
[1137]
[1138," "]
[1139]
[1140," "]
[1141," "]
[1142," "]
[1143," "]
[1144," "]
[1145," "]
[1146," "]
[1147," "]
[1148," "]
[1149," "]
[1150," "]
[1151]
[1152,"BERGTHALER Oliver",109,"SKC Illwerke",null,"1967-05-06","AUT","M"]
[1153," "]
[1154,"BRUNNER Rudi",112,"SKC Koblach",null,"1960-09-12","AUT","M"]
[1155," "]
[1156,"AMORT Mario",104,"SKC Dornbirn",null,"1958-08-30","AUT","M"]
[1157," "]
[1158]
[1159," "]
[1160]
[1161," "]
[1162," "]
[1163," "]
[1164," "]
[1165]
[1166]
[1167]
[1168,"BRUNNER Julian",114,"SKC EHG Dornbirn",null,"1995-01-05","AUT","M"]
[1169," "]
[1170,"RAUCH Franz",104,"SKC Dornbirn",null,"1944-09-06","AUT","M"]
[1171," "]
[1172," "]
[1173," "]
[1174,"BRICHAC Franz",102,"ESV Bregenz Wolfurt",null,"1940-08-17","AUT","M"]
[1175,"DERVISEVIC Nedzib",102,"ESV Bregenz Wolfurt",null,"1952-04-01","BIH","M"]
[1176,"MENNEL Elmar",102,"ESV Bregenz Wolfurt",null,"1956-02-04","AUT","M"]
[1177," "]
[1178," "]
[1179," "]
[1180,"WOLF Reinhold",107,"SKC Hilti",null,"1965-05-01","GER","M"]
[1181,"GMEINER Tobias",104,"SKC Dornbirn",null,"1981-07-13","AUT","M"]
[1182," "]
[1183," "]
[1184," "]
[1185,"FILIPOVIC Bozidar",104,"SKC Dornbirn",null,"1955-08-28","AUT","M"]
[1186," "]
[1187," "]
[1188,"SCALET Walter",104,"SKC Dornbirn",null,"1954-03-14","AUT","M"]
[1189]
[1190,"RIEMER Herbert",102,"ESV Bregenz Wolfurt",null,"1957-05-09","AUT","M"]
[1191," "]
[1192," "]
[1193," "]
[1194," "]
[1195," "]
[1196," "]
[1197,"EGGER Hannes",107,"SKC Hilti",null,"1965-09-29","AUT","M"]
[1198," "]
[1199," "]
[1200," "]
[1201," "]
[1202," "]
[1203," "]
[1204,"STEMER Klemens",107,"SKC Hilti",null,"1950-04-24","AUT","M"]
[1205," "]
[1206,"SCHRIEBL Günther",112,"SKC Koblach",null,"1941-10-06","AUT","M"]
[1207]
[1208,"LIEBE Bernd",107,"SKC Hilti",null,"1959-09-13","GER","M"]
[1209," "]
[1210," "]
[1211," "]
[1212," "]
[1213,"ZUGEC Anton",104,"SKC Dornbirn",null,"1951-04-27","AUT","M"]
[1214,"ZUGEC Josip",104,"SKC Dornbirn",null,"1950-02-10","AUT","M"]
[1215," "]
[1216," "]
[1217,"ZUMTOBEL René",114,"SKC EHG Dornbirn",null,"1971-01-04","AUT","M"]
[1218," "]
[1219," "]
[1220," "]
[1221," "]
[1222," "]
[1223]
[1224]
[1225," "]
[1226," "]
[1227,"GRUBER Mario",101,"ESV Bludenz",null,"1995-01-12","AUT","M"]
[1228,"BERGER Reinhard",102,"ESV Bregenz Wolfurt",null,"1952-11-26","AUT","M"]
[1229," "]
[1230]
[1231,"GEROLD Ronald",101,"ESV Bludenz",null,"1965-07-02","AUT","M"]
[1232," "]
[1233,"SCHELLING Michael",114,"SKC EHG Dornbirn",null,"1984-03-06","AUT","M"]
[1234," "]
[1235," "]
[1236," "]
[1237," "]
[1238," "]
[1239,"DOSTAL Christian",114,"SKC EHG Dornbirn",null,"1947-06-01","AUT","M"]
[1240," "]
[1241,"SCHRITTESSER Manfred",114,"SKC EHG Dornbirn",null,"1960-04-04","AUT","M"]
[1242," "]
[1243," "]
[1244," "]
[1245,"KÖCHL Andreas",114,"SKC EHG Dornbirn",null,"1968-08-10","AUT","M"]
[1246," "]
[1247,"NUSSBAUMER Wilfried",114,"SKC EHG Dornbirn",null,"1955-12-03","AUT","M"]
[1248," "]
[1249," "]
[1250,"BOLTER Mario",112,"SKC Koblach",null,"1967-02-15","AUT","M"]
[1251," "]
[1252,"MATHIS Otto",104,"SKC Dornbirn",null,"1947-12-28","AUT","M"]
[1253,"AMANN Matthias",112,"SKC Koblach",null,"1996-10-03","AUT","M"]
[1254," "]
[1255," "]
[1256," "]
[1257]
[1258," "]
[1259]
[1260,"BÖTTIGER Marco",112,"SKC Koblach",null,"1997-06-16","AUT","M"]
[1261," "]
[1262," "]
[1263]
[1264,"ULBING Bernhard",114,"SKC EHG Dornbirn",null,"1992-12-19","AUT","M"]
[1265," "]
[1266," "]
[1267]
[1268," "]
[1269,"MARINZ Günther",102,"ESV Bregenz Wolfurt",null,"1969-04-04","AUT","M"]
[1270," "]
[1271]
[1272]
[1273," "]
[1274,"SCALET Thomas",104,"SKC Dornbirn",null,"1988-06-06","AUT","M"]
[1275," "]
[1276," "]
[1277," "]
[1278," "]
[1279," "]
[1280," "]
[1281," "]
[1282]
[1283,"VAZOVEC Roman",114,"SKC EHG Dornbirn",null,"1945-02-10","STL","M"]
[1284," "]
[1285," "]
[1286," "]
[1287," "]
[1288," "]
[1289,"KLAMMER Gustav",101,"ESV Bludenz",null,"1957-05-16","AUT","M"]
[1290," "]
[1291," "]
[1292," "]
[1293," "]
[1294," "]
[1295," "]
[1296," "]
[1297," "]
[1298," "]
[1299," "]
[1300,"ZETTL Thomas",112,"SKC Koblach",null,"1969-08-11","AUT","M"]
[1301]
[1302]
[1303]
[1304]
[1305]
[1306]
[1307]
[1308]
[1309]
[1310]
[1311]
[1312]
[1313]
[1314]
[1315]
[1316]
[1317]
[1318]
[1319]
[1320]
[1321]
[1322]
[1323,"NIKOLIC Milosav",112,"SKC Koblach",null,"1960-02-02","AUT","M"]
[6000]
[6001,"BAKBAK Ruba",112,"SKC Koblach",null,"2008-10-28","SYR","W"]
[6002,"ADAM Chiara",112,"SKC Koblach",null,"2004-12-16","AUT","W"]
[6003]
[6004,"KOHLER Brigitte",102,"ESV Bregenz Wolfurt",null,"1960-03-14","AUT","W"]
[6005,"BITSCHNAU Ursula",109,"SKC Illwerke",null,"1951-10-10","AUT","W"]
[6006]
[6007,"POLLER Nadine",112,"SKC Koblach",null,"2007-08-16","GER","W"]
[6008,"SEIFERT Eva",102,"ESV Bregenz Wolfurt",null,"1962-02-20","AUT","W"]
[6009]
[6010,"PESCHL Tabea",112,"SKC Koblach",null,"2007-12-03","AUT","W"]
[6011,"POLLER Denise",112,"SKC Koblach",null,"1982-01-19","GER","W"]
[6012,"NIKOLIC Maja Katharina",114,"SKC EHG Dornbirn",null,"2002-06-17","AUT","W"]
[6013,"FEHER Chiara",114,"SKC EHG Dornbirn",null,"2004-09-09","AUT","W"]
[6014,"VÖLZ Sabrina",114,"SKC EHG Dornbirn",null,"1983-08-21","GER","W"]
[6015,"SCHNAPPAUF Edelgard",114,"SKC EHG Dornbirn",null,"1955-01-11","GER","W"]
[6016,"KAINZ Marlene",112,"SKC Koblach",null,"2009-07-06","AUT","W"]
[6017,"FEHER Sabrina",114,"SKC EHG Dornbirn",null,"1979-12-04","AUT","W"]
[6018,"FRITZ Fabienne",102,"ESV Bregenz Wolfurt",null,"2006-04-19","AUT","W"]
[6019]
[6020]
[6021,"BAUMGARTNER Lena",114,"SKC EHG Dornbirn",null,"2003-03-09","AUT","W"]
[6022,"HÄMMERLE Sabine",112,"SKC Koblach",null,"1958-01-22","AUT","W"]
[6023]
[6024,"ANNASENSL Jasmin",114,"SKC EHG Dornbirn",null,"1993-11-16","GER","W"]
[6025]
[6026,"KUSCHNY Maria",102,"ESV Bregenz Wolfurt",null,"1953-11-29","AUT","W"]
[6027,"KLEBER Elisabeth",114,"SKC EHG Dornbirn",null,"1985-10-29","AUT","W"]
[6028,"SINKO Lotte",109,"SKC Illwerke",null,"1956-11-27","AUT","W"]
[6029,"SPALT Leonie",112,"SKC Koblach",null,"2008-07-15","AUT","W"]
[6030,"BAUMGARTNER Nadine",114,"SKC EHG Dornbirn",null,"1975-11-14","AUT","W"]
[6031,"BAUMGARTNER Angelina",114,"SKC EHG Dornbirn",null,"2006-03-19","AUT","W"]
[6032,"FRITZ Karin",109,"SKC Illwerke",null,"1959-01-27","AUT","W"]
[6033,"FEHR Franziska",107,"SKC Hilti",null,"1994-08-17","AUT","W"]
[6034,"JOCHUM Marion",114,"SKC EHG Dornbirn",null,"1968-05-13","AUT","W"]
[6035,"FRÖIS Renate",114,"SKC EHG Dornbirn",null,"1956-09-16","AUT","W"]
[6036]
[6037,"KUSCHNY Petra",106,"ATSV Hard",null,"1970-10-23","AUT","W"]
[6038]
[6039,"KNAUER Stefanie",112,"SKC Koblach",null,"1993-03-09","AUT","W"]
[6040,"HÄRTING Sybille",102,"ESV Bregenz Wolfurt",null,"1980-12-21","AUT","W"]
[6041," "]
[6042,"HAMMERL Johanna",112,"SKC Koblach",null,"1986-11-28","GER","W"]
[6043]
[6044," "]
[6045]
[6046]
[6047]
[6048,"NUßBAUMER Anny",102,"ESV Bregenz Wolfurt",null,"1956-06-28","AUT","W"]
[6049]
[6050,"TORREMANTE Caroline",114,"SKC EHG Dornbirn",null,"1978-05-18","GER","W"]
[6051,"FINK Judith",112,"SKC Koblach",null,"1977-01-18","AUT","W"]
[6052,"SCHELLING Hedwig",114,"SKC EHG Dornbirn",null,"1959-03-09","AUT","W"]
[6053,"WEINMÜLLER Karin",114,"SKC EHG Dornbirn",null,"1955-10-17","AUT","W"]
[6054,"WÜSCHNER Elisabeth",114,"SKC EHG Dornbirn",null,"1968-12-25","AUT","W"]
[6055]
[6056,"BISCHOF Claudia",104,"SKC Dornbirn",null,"1970-06-03","AUT","W"]
[6057," "]
[6058," "]
[6059]
[6060," "]
[6061,"MANGENG Tamara",109,"SKC Illwerke",null,"1953-04-30","AUT","W"]
[6062," "]
[6063," "]
[6064," "]
[6065," "]
[6066," "]
[6067," "]
[6068," "]
[6069," "]
[6070," "]
[6071,"ZUDRELL Manuela",109,"SKC Illwerke",null,"1972-04-19","AUT","W"]
[6072]
[6073]
[6074," "]
[6075," "]
[6076]
[6077," "]
[6078," "]
[6079," "]
[6080," "]
[6081," "]
[6082,"NIKOLIC Ruth",102,"ESV Bregenz Wolfurt",null,"1973-10-10","SUI","W"]
[6083,"LEISSNER Bianca",109,"SKC Illwerke",null,"1990-06-27","AUT","W"]
[6084]
[6085," "]
[6086," "]
[6087]
[6088," "]
[6089," "]
[6090," "]
[6091]
[6092," "]
[6093," "]
[6094," "]
[6095," "]
[6096," "]
[6097," "]
[6098,"JÄGER Simone",112,"SKC Koblach",null,"1990-11-24","AUT","W"]
[6099," "]
[6100," "]
[6101," "]
[6102]
[6103," "]
[6104," "]
[6105,"WÜSCHNER Stefanie",114,"SKC EHG Dornbirn",null,"1995-07-26","AUT","W"]
[6106," "]
[6107," "]
[6108," "]
[6109," "]
[6110," "]
[6111,"ZUMTOBEL Ursula",114,"SKC EHG Dornbirn",null,"1968-01-27","AUT","W"]
[6112," "]
[6113]
[6114]
[6115,"WÜSCHNER Sabrina",114,"SKC EHG Dornbirn",null,"1997-04-23","AUT","W"]
[6116," "]
[6117," "]
[6118," "]
[6119," "]
[6120," "]
[6121," "]
[6122,"SCHAARSCHMIDT Heidemarie",102,"ESV Bregenz Wolfurt",null,"1953-11-30","GER","W"]
[6123," "]
[6124," "]
[6125]